BEGIN:VCALENDAR
VERSION:2.0
PRODID:-//Sophicity/Tribune/Brookland, AR
BEGIN:VEVENT
DTSTAMP:20260422T160641Z
UID:66f6ac41-c72f-4420-a617-b4f7c9effa58-5258
DTSTART:20240902T120000Z
DTEND:20240902T210000Z
CLASS:PUBLIC
SUMMARY:City offices closed for Labor Day Holiday
END:VEVENT
END:VCALENDAR
